BEGIN:VCALENDAR
VERSION:2.0
PRODID:-//Centro Quantum - ECPv6.10.1.1//NONSGML v1.0//EN
CALSCALE:GREGORIAN
METHOD:PUBLISH
X-WR-CALNAME:Centro Quantum
X-ORIGINAL-URL:https://centroquantum.com
X-WR-CALDESC:Eventos para Centro Quantum
REFRESH-INTERVAL;VALUE=DURATION:PT1H
X-Robots-Tag:noindex
X-PUBLISHED-TTL:PT1H
BEGIN:VTIMEZONE
TZID:America/Adak
BEGIN:DAYLIGHT
TZOFFSETFROM:-1000
TZOFFSETTO:-0900
TZNAME:HDT
DTSTART:20250309T120000
END:DAYLIGHT
BEGIN:STANDARD
TZOFFSETFROM:-0900
TZOFFSETTO:-1000
TZNAME:HST
DTSTART:20251102T110000
END:STANDARD
END:VTIMEZONE
BEGIN:VEVENT
DTSTART;TZID=America/Adak:20250531T100000
DTEND;TZID=America/Adak:20250531T140000
DTSTAMP:20260421T101332
CREATED:20250407T142718Z
LAST-MODIFIED:20250407T142718Z
UID:2076-1748685600-1748700000@centroquantum.com
SUMMARY:TALLER PRESENCIAL "ABUNDANCIA Y DESPROGRAMCION DEL DINERO"
DESCRIPTION:COMUNICARSE DIRECTAMENTE AL WHATSAPP
URL:https://centroquantum.com/quantum_evento/sanar-tus-nombres-y-libera-peso-psiquico-2-4-3-3-3-2-3-2-2/
LOCATION:Centro Quantum
CATEGORIES:Talleres
ATTACH;FMTTYPE=image/jpeg:https://centroquantum.com/wp-content/uploads/2025/04/WhatsApp-Image-2025-04-05-at-7.39.17-PM.jpeg
ORGANIZER;CN="Centro Quantum":MAILTO:contacto@centroquantum.com
END:VEVENT
END:VCALENDAR