BEGIN:VCALENDAR
VERSION:2.0
PRODID:-//Centro Quantum - ECPv6.10.1.1//NONSGML v1.0//EN
CALSCALE:GREGORIAN
METHOD:PUBLISH
X-WR-CALNAME:Centro Quantum
X-ORIGINAL-URL:https://centroquantum.com
X-WR-CALDESC:Eventos para Centro Quantum
REFRESH-INTERVAL;VALUE=DURATION:PT1H
X-Robots-Tag:noindex
X-PUBLISHED-TTL:PT1H
BEGIN:VTIMEZONE
TZID:America/Adak
BEGIN:DAYLIGHT
TZOFFSETFROM:-1000
TZOFFSETTO:-0900
TZNAME:HDT
DTSTART:20250309T120000
END:DAYLIGHT
BEGIN:STANDARD
TZOFFSETFROM:-0900
TZOFFSETTO:-1000
TZNAME:HST
DTSTART:20251102T110000
END:STANDARD
END:VTIMEZONE
BEGIN:VEVENT
DTSTART;TZID=America/Adak:20250801T150000
DTEND;TZID=America/Adak:20250801T190000
DTSTAMP:20260421T141244
CREATED:20250625T193809Z
LAST-MODIFIED:20250625T194517Z
UID:2160-1754060400-1754074800@centroquantum.com
SUMMARY:PRESENCIAL CDMX "INTELIGENCIA EMOCIONAL RECURSOS TERAPEUTICOS PARA LA VIDA"
DESCRIPTION:COMUNICARSE DIRECTAMENTE AL WHATSAPP
URL:https://centroquantum.com/quantum_evento/sanar-tus-nombres-y-libera-peso-psiquico-2-4-3-2-2-3-3-2-3-2-2-2-2-2-3-2-2/
LOCATION:Centro Quantum
CATEGORIES:Cursos Online
ATTACH;FMTTYPE=image/jpeg:https://centroquantum.com/wp-content/uploads/2025/06/WORKSHOP-IE-CDMX.jpeg
ORGANIZER;CN="Centro Quantum":MAILTO:contacto@centroquantum.com
END:VEVENT
END:VCALENDAR