BEGIN:VCALENDAR
VERSION:2.0
PRODID:-//Centro Quantum - ECPv6.10.1.1//NONSGML v1.0//EN
CALSCALE:GREGORIAN
METHOD:PUBLISH
X-ORIGINAL-URL:https://centroquantum.com
X-WR-CALDESC:Eventos para Centro Quantum
REFRESH-INTERVAL;VALUE=DURATION:PT1H
X-Robots-Tag:noindex
X-PUBLISHED-TTL:PT1H
BEGIN:VTIMEZONE
TZID:America/Adak
BEGIN:DAYLIGHT
TZOFFSETFROM:-1000
TZOFFSETTO:-0900
TZNAME:HDT
DTSTART:20250309T120000
END:DAYLIGHT
BEGIN:STANDARD
TZOFFSETFROM:-0900
TZOFFSETTO:-1000
TZNAME:HST
DTSTART:20251102T110000
END:STANDARD
END:VTIMEZONE
BEGIN:VEVENT
DTSTART;TZID=America/Adak:20251126T200000
DTEND;TZID=America/Adak:20251126T220000
DTSTAMP:20260421T180840
CREATED:20251016T184810Z
LAST-MODIFIED:20251016T184810Z
UID:2179-1764187200-1764194400@centroquantum.com
SUMMARY:LIBERACION Y GESTION DE MIEDOS
DESCRIPTION:COMUNICARSE DIRECTAMENTE AL WHATSAPP
URL:https://centroquantum.com/quantum_evento/sanar-tus-nombres-y-libera-peso-psiquico-2-4-3-2-2-3-3-2-3-2-2-2-2-2-3-2-2-2-2-2/
LOCATION:Centro Quantum
CATEGORIES:Cursos Online
ATTACH;FMTTYPE=image/jpeg:https://centroquantum.com/wp-content/uploads/2025/10/GESTION-DE-MIEDOS.jpeg
ORGANIZER;CN="Centro Quantum":MAILTO:contacto@centroquantum.com
END:VEVENT
END:VCALENDAR