BEGIN:VCALENDAR
VERSION:2.0
PRODID:-//Centro Quantum - ECPv6.10.1.1//NONSGML v1.0//EN
CALSCALE:GREGORIAN
METHOD:PUBLISH
X-WR-CALNAME:Centro Quantum
X-ORIGINAL-URL:https://centroquantum.com
X-WR-CALDESC:Eventos para Centro Quantum
REFRESH-INTERVAL;VALUE=DURATION:PT1H
X-Robots-Tag:noindex
X-PUBLISHED-TTL:PT1H
BEGIN:VTIMEZONE
TZID:America/Adak
BEGIN:DAYLIGHT
TZOFFSETFROM:-1000
TZOFFSETTO:-0900
TZNAME:HDT
DTSTART:20260308T120000
END:DAYLIGHT
BEGIN:STANDARD
TZOFFSETFROM:-0900
TZOFFSETTO:-1000
TZNAME:HST
DTSTART:20261101T110000
END:STANDARD
END:VTIMEZONE
BEGIN:VEVENT
DTSTART;TZID=America/Adak:20260101T130000
DTEND;TZID=America/Adak:20260101T130000
DTSTAMP:20260421T214954
CREATED:20251016T190003Z
LAST-MODIFIED:20251016T190003Z
UID:2191-1767272400-1767272400@centroquantum.com
SUMMARY:"PORTAL 1*1*1"
DESCRIPTION:COMUNICARSE DIRECTAMENTE AL WHATSAPP
URL:https://centroquantum.com/quantum_evento/sanar-tus-nombres-y-libera-peso-psiquico-2-4-3-2-2-3-3-2-3-2-2-2-2-2-3-2-2-2-2-2-2-3/
LOCATION:Centro Quantum
CATEGORIES:Cursos Online
ATTACH;FMTTYPE=image/jpeg:https://centroquantum.com/wp-content/uploads/2025/10/PORTAL-111.jpeg
ORGANIZER;CN="Centro Quantum":MAILTO:contacto@centroquantum.com
END:VEVENT
BEGIN:VEVENT
DTSTART;TZID=America/Adak:20260111T090000
DTEND;TZID=America/Adak:20260111T130000
DTSTAMP:20260421T214954
CREATED:20251016T185215Z
LAST-MODIFIED:20260113T212831Z
UID:2183-1768122000-1768136400@centroquantum.com
SUMMARY:DESPROGRAMACION DEL SOBREPESO
DESCRIPTION:COMUNICARSE DIRECTAMENTE AL WHATSAPP
URL:https://centroquantum.com/quantum_evento/sanar-tus-nombres-y-libera-peso-psiquico-2-4-3-2-2-3-3-2-3-2-2-2-2-2-3-2-2-2-2-2-2-4/
LOCATION:Centro Quantum
CATEGORIES:Cursos Online
ATTACH;FMTTYPE=image/jpeg:https://centroquantum.com/wp-content/uploads/2025/10/SOBREPESO.jpeg
ORGANIZER;CN="Centro Quantum":MAILTO:contacto@centroquantum.com
END:VEVENT
BEGIN:VEVENT
DTSTART;TZID=America/Adak:20260117T170000
DTEND;TZID=America/Adak:20260117T200000
DTSTAMP:20260421T214954
CREATED:20251016T185517Z
LAST-MODIFIED:20260113T212855Z
UID:2186-1768669200-1768680000@centroquantum.com
SUMMARY:EVENTO PRESENCIAL "SEXUALIDAD SAGRADA"
DESCRIPTION:COMUNICARSE DIRECTAMENTE AL WHATSAPP
URL:https://centroquantum.com/quantum_evento/sanar-tus-nombres-y-libera-peso-psiquico-2-4-3-2-2-3-3-2-3-2-2-2-2-2-3-2-2-2-2-2-2-2/
LOCATION:Centro Quantum
CATEGORIES:Talleres
ATTACH;FMTTYPE=image/jpeg:https://centroquantum.com/wp-content/uploads/2025/10/SEXUALIDAD.jpeg
ORGANIZER;CN="Centro Quantum":MAILTO:contacto@centroquantum.com
END:VEVENT
END:VCALENDAR